BEGIN:VCALENDAR
VERSION:2.0
PRODID:-//Bénévoles d&#039;accompagnement    Les  uns  aux  cotés  des  autres - ECPv6.15.11//NONSGML v1.0//EN
CALSCALE:GREGORIAN
METHOD:PUBLISH
X-WR-CALNAME:Bénévoles d&#039;accompagnement    Les  uns  aux  cotés  des  autres
X-ORIGINAL-URL:https://asso-accords.org
X-WR-CALDESC:Évènements pour Bénévoles d&#039;accompagnement    Les  uns  aux  cotés  des  autres
REFRESH-INTERVAL;VALUE=DURATION:PT1H
X-Robots-Tag:noindex
X-PUBLISHED-TTL:PT1H
BEGIN:VTIMEZONE
TZID:Europe/Paris
BEGIN:DAYLIGHT
TZOFFSETFROM:+0100
TZOFFSETTO:+0200
TZNAME:CEST
DTSTART:20240331T010000
END:DAYLIGHT
BEGIN:STANDARD
TZOFFSETFROM:+0200
TZOFFSETTO:+0100
TZNAME:CET
DTSTART:20241027T010000
END:STANDARD
BEGIN:DAYLIGHT
TZOFFSETFROM:+0100
TZOFFSETTO:+0200
TZNAME:CEST
DTSTART:20250330T010000
END:DAYLIGHT
BEGIN:STANDARD
TZOFFSETFROM:+0200
TZOFFSETTO:+0100
TZNAME:CET
DTSTART:20251026T010000
END:STANDARD
BEGIN:DAYLIGHT
TZOFFSETFROM:+0100
TZOFFSETTO:+0200
TZNAME:CEST
DTSTART:20260329T010000
END:DAYLIGHT
BEGIN:STANDARD
TZOFFSETFROM:+0200
TZOFFSETTO:+0100
TZNAME:CET
DTSTART:20261025T010000
END:STANDARD
END:VTIMEZONE
BEGIN:VEVENT
DTSTART;TZID=Europe/Paris:20250909T183000
DTEND;TZID=Europe/Paris:20250909T203000
DTSTAMP:20260421T113842
CREATED:20250706T182304Z
LAST-MODIFIED:20250706T182304Z
UID:3455-1757442600-1757449800@asso-accords.org
SUMMARY:Réunion du CA
DESCRIPTION:
URL:https://asso-accords.org/evennements/reunion-du-ca/
LOCATION:Bureau de l’Association\, cours Mirabeau\, Aix en Provence\, France
CATEGORIES:Réunion
END:VEVENT
BEGIN:VEVENT
DTSTART;TZID=Europe/Paris:20250914T093000
DTEND;TZID=Europe/Paris:20250914T203000
DTSTAMP:20260421T113842
CREATED:20250706T182305Z
LAST-MODIFIED:20250706T182305Z
UID:3459-1757842200-1757881800@asso-accords.org
SUMMARY:Forum des Asso Aix en Provence
DESCRIPTION:
URL:https://asso-accords.org/evennements/forum-des-asso-aix-en-provence/
CATEGORIES:Réunion
END:VEVENT
BEGIN:VEVENT
DTSTART;TZID=Europe/Paris:20250927T093000
DTEND;TZID=Europe/Paris:20250927T173000
DTSTAMP:20260421T113842
CREATED:20250706T182320Z
LAST-MODIFIED:20251017T185349Z
UID:3461-1758965400-1758994200@asso-accords.org
SUMMARY:Journée de Formation Bénévoles Accompagnants
DESCRIPTION:
URL:https://asso-accords.org/evennements/journee-de-formation-benevoles-accompagnants-2/
END:VEVENT
END:VCALENDAR