BEGIN:VCALENDAR
VERSION:2.0
PRODID:-//Bénévoles d&#039;accompagnement    Les  uns  aux  cotés  des  autres - ECPv6.15.11//NONSGML v1.0//EN
CALSCALE:GREGORIAN
METHOD:PUBLISH
X-ORIGINAL-URL:https://asso-accords.org
X-WR-CALDESC:Évènements pour Bénévoles d&#039;accompagnement    Les  uns  aux  cotés  des  autres
REFRESH-INTERVAL;VALUE=DURATION:PT1H
X-Robots-Tag:noindex
X-PUBLISHED-TTL:PT1H
BEGIN:VTIMEZONE
TZID:Europe/Paris
BEGIN:DAYLIGHT
TZOFFSETFROM:+0100
TZOFFSETTO:+0200
TZNAME:CEST
DTSTART:20240331T010000
END:DAYLIGHT
BEGIN:STANDARD
TZOFFSETFROM:+0200
TZOFFSETTO:+0100
TZNAME:CET
DTSTART:20241027T010000
END:STANDARD
BEGIN:DAYLIGHT
TZOFFSETFROM:+0100
TZOFFSETTO:+0200
TZNAME:CEST
DTSTART:20250330T010000
END:DAYLIGHT
BEGIN:STANDARD
TZOFFSETFROM:+0200
TZOFFSETTO:+0100
TZNAME:CET
DTSTART:20251026T010000
END:STANDARD
BEGIN:DAYLIGHT
TZOFFSETFROM:+0100
TZOFFSETTO:+0200
TZNAME:CEST
DTSTART:20260329T010000
END:DAYLIGHT
BEGIN:STANDARD
TZOFFSETFROM:+0200
TZOFFSETTO:+0100
TZNAME:CET
DTSTART:20261025T010000
END:STANDARD
END:VTIMEZONE
BEGIN:VEVENT
DTSTART;TZID=Europe/Paris:20250305T080000
DTEND;TZID=Europe/Paris:20250305T170000
DTSTAMP:20260421T202126
CREATED:20241230T193054Z
LAST-MODIFIED:20251017T185015Z
UID:3278-1741161600-1741194000@asso-accords.org
SUMMARY:Groupe de paroles Accompagnants
DESCRIPTION:
URL:https://asso-accords.org/evennements/groupe-de-paroles-accompagnants-4/
LOCATION:Bureau de l’Association\, cours Mirabeau\, Aix en Provence\, France
CATEGORIES:Groupe de Parole
END:VEVENT
BEGIN:VEVENT
DTSTART;TZID=Europe/Paris:20250311T183000
DTEND;TZID=Europe/Paris:20250311T203000
DTSTAMP:20260421T202126
CREATED:20250107T090532Z
LAST-MODIFIED:20250107T090532Z
UID:3314-1741717800-1741725000@asso-accords.org
SUMMARY:Réunion Référents d'établissement
DESCRIPTION:
URL:https://asso-accords.org/evennements/reunion-referents-detablissement/
LOCATION:Centre de formation\, Avenue Frédéric CHOPIN\, Bouc Bel Air\, 13320\, France
CATEGORIES:Réunion
END:VEVENT
BEGIN:VEVENT
DTSTART;TZID=Europe/Paris:20250314T093000
DTEND;TZID=Europe/Paris:20250314T173000
DTSTAMP:20260421T202126
CREATED:20250706T182320Z
LAST-MODIFIED:20251017T185042Z
UID:3460-1741944600-1741973400@asso-accords.org
SUMMARY:Journée de Formation Bénévoles Accompagnants
DESCRIPTION:
URL:https://asso-accords.org/evennements/journee-de-formation-benevoles-accompagnants/
END:VEVENT
END:VCALENDAR