BEGIN:VCALENDAR
VERSION:2.0
PRODID:-//Bénévoles d&#039;accompagnement    Les  uns  aux  cotés  des  autres - ECPv6.15.11//NONSGML v1.0//EN
CALSCALE:GREGORIAN
METHOD:PUBLISH
X-WR-CALNAME:Bénévoles d&#039;accompagnement    Les  uns  aux  cotés  des  autres
X-ORIGINAL-URL:https://asso-accords.org
X-WR-CALDESC:Évènements pour Bénévoles d&#039;accompagnement    Les  uns  aux  cotés  des  autres
REFRESH-INTERVAL;VALUE=DURATION:PT1H
X-Robots-Tag:noindex
X-PUBLISHED-TTL:PT1H
BEGIN:VTIMEZONE
TZID:Europe/Paris
BEGIN:DAYLIGHT
TZOFFSETFROM:+0100
TZOFFSETTO:+0200
TZNAME:CEST
DTSTART:20240331T010000
END:DAYLIGHT
BEGIN:STANDARD
TZOFFSETFROM:+0200
TZOFFSETTO:+0100
TZNAME:CET
DTSTART:20241027T010000
END:STANDARD
BEGIN:DAYLIGHT
TZOFFSETFROM:+0100
TZOFFSETTO:+0200
TZNAME:CEST
DTSTART:20250330T010000
END:DAYLIGHT
BEGIN:STANDARD
TZOFFSETFROM:+0200
TZOFFSETTO:+0100
TZNAME:CET
DTSTART:20251026T010000
END:STANDARD
BEGIN:DAYLIGHT
TZOFFSETFROM:+0100
TZOFFSETTO:+0200
TZNAME:CEST
DTSTART:20260329T010000
END:DAYLIGHT
BEGIN:STANDARD
TZOFFSETFROM:+0200
TZOFFSETTO:+0100
TZNAME:CET
DTSTART:20261025T010000
END:STANDARD
END:VTIMEZONE
BEGIN:VEVENT
DTSTART;TZID=Europe/Paris:20250205T080000
DTEND;TZID=Europe/Paris:20250205T170000
DTSTAMP:20260421T220207
CREATED:20241230T192901Z
LAST-MODIFIED:20251017T184429Z
UID:3276-1738742400-1738774800@asso-accords.org
SUMMARY:Groupe de paroles Accompagnants
DESCRIPTION:
URL:https://asso-accords.org/evennements/groupe-de-paroles-accompagnants-3/
LOCATION:Bureau de l’Association\, cours Mirabeau\, Aix en Provence\, France
CATEGORIES:Groupe de Parole
END:VEVENT
BEGIN:VEVENT
DTSTART;TZID=Europe/Paris:20250222T080000
DTEND;TZID=Europe/Paris:20250222T170000
DTSTAMP:20260421T220207
CREATED:20241230T194401Z
LAST-MODIFIED:20241230T194401Z
UID:3292-1740211200-1740243600@asso-accords.org
SUMMARY:Formation Initiale Futurs Accompagnants J5
DESCRIPTION:
URL:https://asso-accords.org/evennements/formation-initiale-futurs-accompagnants-j5/
LOCATION:Centre de formation\, Avenue Frédéric CHOPIN\, Bouc Bel Air\, 13320\, France
CATEGORIES:FI
END:VEVENT
END:VCALENDAR